BEGIN:VCALENDAR
VERSION:2.0
PRODID:-//Live Well Saline County - ECPv6.15.20//NONSGML v1.0//EN
CALSCALE:GREGORIAN
METHOD:PUBLISH
X-WR-CALNAME:Live Well Saline County
X-ORIGINAL-URL:https://livewellsalinecounty.com
X-WR-CALDESC:Events for Live Well Saline County
REFRESH-INTERVAL;VALUE=DURATION:PT1H
X-Robots-Tag:noindex
X-PUBLISHED-TTL:PT1H
BEGIN:VTIMEZONE
TZID:America/Chicago
BEGIN:DAYLIGHT
TZOFFSETFROM:-0600
TZOFFSETTO:-0500
TZNAME:CDT
DTSTART:20240310T080000
END:DAYLIGHT
BEGIN:STANDARD
TZOFFSETFROM:-0500
TZOFFSETTO:-0600
TZNAME:CST
DTSTART:20241103T070000
END:STANDARD
BEGIN:DAYLIGHT
TZOFFSETFROM:-0600
TZOFFSETTO:-0500
TZNAME:CDT
DTSTART:20250309T080000
END:DAYLIGHT
BEGIN:STANDARD
TZOFFSETFROM:-0500
TZOFFSETTO:-0600
TZNAME:CST
DTSTART:20251102T070000
END:STANDARD
BEGIN:DAYLIGHT
TZOFFSETFROM:-0600
TZOFFSETTO:-0500
TZNAME:CDT
DTSTART:20260308T080000
END:DAYLIGHT
BEGIN:STANDARD
TZOFFSETFROM:-0500
TZOFFSETTO:-0600
TZNAME:CST
DTSTART:20261101T070000
END:STANDARD
END:VTIMEZONE
BEGIN:VTIMEZONE
TZID:UTC
BEGIN:STANDARD
TZOFFSETFROM:+0000
TZOFFSETTO:+0000
TZNAME:UTC
DTSTART:20230101T000000
END:STANDARD
END:VTIMEZONE
BEGIN:VEVENT
DTSTART;VALUE=DATE:20251021
DTEND;VALUE=DATE:20251022
DTSTAMP:20260423T080308
CREATED:20251015T163727Z
LAST-MODIFIED:20251015T163727Z
UID:2370-1761004800-1761091199@livewellsalinecounty.com
SUMMARY:Pink Out Salina
DESCRIPTION:Show your support for breast cancer patients and survivors by wearing pink on Tuesday\, October 21.\nTake pictures of yourself\, your friends\, your co-workers wearing pink and post them to Facebook using the hashtag #pinkoutsalina.
URL:https://livewellsalinecounty.com/event/pink-out-salina/
LOCATION:Salina Kansas\, 67401\, United States
CATEGORIES:COMMUNITY,WELLNESS
ATTACH;FMTTYPE=image/jpeg:https://livewellsalinecounty.com/wp-content/uploads/2025/10/pink-out-home-event.webp
ORGANIZER;CN="LiveWell Saline County":MAILTO:dacraig@srhc.com
END:VEVENT
BEGIN:VEVENT
DTSTART;TZID=America/Chicago:20251011T090000
DTEND;TZID=America/Chicago:20251011T120000
DTSTAMP:20260423T080308
CREATED:20250721T174505Z
LAST-MODIFIED:20250721T175309Z
UID:2063-1760173200-1760184000@livewellsalinecounty.com
SUMMARY:Free Screenings!
DESCRIPTION:We are excited to announce that we will have two free skin cancer and prostate cancer screenings again this year. \nLast year’s screenings filled up so we encourage anyone who is interested to sign up early. The free skin cancer and prostate cancer screenings will be held at Tammy Walker Cancer Center on Saturday\, October 4th and October 11th. Both events will run from 9:00am to 12:00pm. There is no cost for the screenings\, but appointments are required. Individuals do not have to live in Saline County to attend the screenings. \nTo make an appointment\, contact Daniel Craig at 785-452-4848 or email dacraig@shrc.com. \nSkin cancer is the most common type of cancer found in both men and women. People of all ages should have moles and other unusual skin changes evaluated by a professional. \nProstate cancer is the second-leading cause of cancer death in American men behind lung cancer. The prostate cancer screening is for men ages 55 to 69 and includes a PSA blood test and physical exam. Prior to testing men will have the opportunity to consult with a urologist to help decide if the screening is appropriate and desirable. \nA huge thank you to the Masonic Cancer Alliance and Salina Lodge #60 for helping us make these free screenings available to our community.
URL:https://livewellsalinecounty.com/event/free-screenings-copy/
LOCATION:Tammy Walker Cancer Center\, 511 S Santa Fe Ave\, Salina\, KS\, 67401\, United States
CATEGORIES:WELLNESS
ATTACH;FMTTYPE=image/jpeg:https://livewellsalinecounty.com/wp-content/uploads/2025/07/skin-cancer-prostrate-screenings.jpg
END:VEVENT
BEGIN:VEVENT
DTSTART;TZID=America/Chicago:20251004T090000
DTEND;TZID=America/Chicago:20251004T120000
DTSTAMP:20260423T080308
CREATED:20250721T174341Z
LAST-MODIFIED:20250721T175405Z
UID:2057-1759568400-1759579200@livewellsalinecounty.com
SUMMARY:Free Screenings!
DESCRIPTION:We are excited to announce that we will have two free skin cancer and prostate cancer screenings again this year. \nLast year’s screenings filled up so we encourage anyone who is interested to sign up early. The free skin cancer and prostate cancer screenings will be held at Tammy Walker Cancer Center on Saturday\, October 4th and October 11th. Both events will run from 9:00am to 12:00pm. There is no cost for the screenings\, but appointments are required. Individuals do not have to live in Saline County to attend the screenings. \nTo make an appointment\, contact Daniel Craig at 785-452-4848 or email dacraig@shrc.com. \nSkin cancer is the most common type of cancer found in both men and women. People of all ages should have moles and other unusual skin changes evaluated by a professional. \nProstate cancer is the second-leading cause of cancer death in American men behind lung cancer. The prostate cancer screening is for men ages 55 to 69 and includes a PSA blood test and physical exam. Prior to testing men will have the opportunity to consult with a urologist to help decide if the screening is appropriate and desirable. \nA huge thank you to the Masonic Cancer Alliance and Salina Lodge #60 for helping us make these free screenings available to our community.
URL:https://livewellsalinecounty.com/event/free-screenings/
LOCATION:Tammy Walker Cancer Center\, 511 S Santa Fe Ave\, Salina\, KS\, 67401\, United States
CATEGORIES:WELLNESS
ATTACH;FMTTYPE=image/jpeg:https://livewellsalinecounty.com/wp-content/uploads/2025/07/skin-cancer-prostrate-screenings.jpg
END:VEVENT
BEGIN:VEVENT
DTSTART;TZID=America/Chicago:20250930T084500
DTEND;TZID=America/Chicago:20250930T170000
DTSTAMP:20260423T080308
CREATED:20250922T200015Z
LAST-MODIFIED:20250922T200015Z
UID:2164-1759221900-1759251600@livewellsalinecounty.com
SUMMARY:Mobility on the Move: Ride CityGo
DESCRIPTION:Regional Mobility Manager Michelle Coats will host a special Mobility on the Move event during Kansas Week Without Driving\, September 29–October 5\, 2025. The event invites community members to meet in downtown Salina and ride Salina CityGo together for one full round on a route. \nThe ride is designed as an easy\, no-pressure way for first-time riders to experience the bus system. Participants will have the chance to learn how CityGo works\, see a route firsthand\, and discover how accessible and convenient public transportation can be. \n“We’re proud to support Kansas Week Without Driving 2025\,” said Michelle Coats\, Regional Mobility Manager. “Events like Mobility on the Move are a fun and welcoming way to show people that transit is an option for everyone — whether you’re commuting\, running errands\, or just exploring the community.” \nKansas Week Without Driving is a statewide effort to raise awareness of the challenges faced by people who cannot drive due to age\, disability\, or other reasons. The week encourages Kansans to consider what it would mean to go without driving and highlights the importance of having safe\, reliable\, and accessible transportation options for everyone. \nThe event is free and open to the public\, but space is limited to the first 10 participants. Advance registration is required\, click here to register. \nFor more information about Mobility on the Move\, contact:\nMichelle Coats\nRegional Mobility Manager\n785.826.1583
URL:https://livewellsalinecounty.com/event/mobility-on-the-move-ride-citygo/
LOCATION:CityGo Bus Stop\, 7th & Walnut\, Salina\, KS\, 67401
CATEGORIES:COMMUNITY,WELLNESS
ATTACH;FMTTYPE=image/webp:https://livewellsalinecounty.com/wp-content/uploads/2025/09/WeekWithoutDriving.webp
END:VEVENT
BEGIN:VEVENT
DTSTART;VALUE=DATE:20250920
DTEND;VALUE=DATE:20250921
DTSTAMP:20260423T080308
CREATED:20250616T193329Z
LAST-MODIFIED:20250707T005310Z
UID:1831-1758326400-1758412799@livewellsalinecounty.com
SUMMARY:Fe for a Cure
DESCRIPTION:Registration is now open for one of the region’s most fun\, family friendly and affordable running and walking events – the Fe for a Cure! This year’s race will be held on Saturday\, September 20th\, 2025 and will start and finish at Tammy Walker Cancer Center. In addition to a USATF Certified 5K race a new one mile fun run was added in 2024. It makes the Fe For a Cure Race/Walk an event the entire family can participate in. The 5K race will be starting at 8:00a.m. with the one mile fun run following at 8:10a.m. The Fe For a Cure 5K was the first ever USATF Certified race held in Salina (2022) and along with the Salina Crossroads Marathon is one of only two USATF Certified races in Salina. \nThanks to the generosity of sponsors\, 100% of your entry fee directly supports cancer patients through services and equipment needs at the Tammy Walker Cancer Center. \nEvent organizers have set a goal of having 1\,000 registered participants this year. Last year’s event drew a record 834 registered participants. Registration is $25 for ages 12 and older and $10 for ages 11 and younger. All who register will receive a commemorative race t-shirt. Cancer survivors who register will receive specially designated t-shirts. \nLast year the event raised $26\,439 through registrations\, donations\, and ribbons sales. An anonymous donor also contributed $30\,000\, bringing the total raised to a record $56\,439! Here are some of the programs that funds raised from the Fe For a Cure help to support: \nPatient meal program Patients undergoing long chemotherapy infusions are offered a meal (lunch)\, Monday thru Thursday. The patient meal program started in November 2022 and over 3800 meals have been served. What an amazing gift to our patients! During the school year the patient meal program provides our Project Search interns the opportunity to learn work skills and business soft-skills with the goal of helping them gain employment. During the summer we have volunteers who help out.\nAppearance center Patients are able to get wigs\, hats\, scarves\, and other items at no cost. Wigs and other items from the appearance center can help empower patients and help them feel more comfortable and confident as well as provide a sense of normalcy during treatment.\nTransportation assistance Transportation shouldn’t be a roadblock to cancer treatment. Our partnership with OCCK allows us to offer transportation services to those who need it at no cost.\nMorrison House The Morrison House is a guest residence for those living outside Salina with a loved one who is a patient at Salina Regional Health Center and outpatients undergoing treatment at the Tammy Walker Cancer Center. \nTo volunteer to help with Fe for a Cure\, contact Daniel Craig at dacraig@srhc.com or 785-452-4848.
URL:https://livewellsalinecounty.com/event/fe-for-a-cure-2/
LOCATION:Tammy Walker Cancer Center\, 511 S Santa Fe Ave\, Salina\, KS\, 67401\, United States
CATEGORIES:COMMUNITY,RACE,WELLNESS
ATTACH;FMTTYPE=image/jpeg:https://livewellsalinecounty.com/wp-content/uploads/2025/06/fe-for-a-cure.jpg
ORGANIZER;CN="Tammy Walker Cancer Center":MAILTO:dacraig@srhc.com
END:VEVENT
BEGIN:VEVENT
DTSTART;TZID=America/Chicago:20250517T090000
DTEND;TZID=America/Chicago:20250517T110000
DTSTAMP:20260423T080308
CREATED:20250501T134737Z
LAST-MODIFIED:20250501T134842Z
UID:1745-1747472400-1747479600@livewellsalinecounty.com
SUMMARY:Bike the Park
DESCRIPTION:Celebrate National Bike Month with “Bike the Park” at Lakewood! \nIn celebration of National Bike Month\, Lakewood Discovery Center and Great Plains Manufacturing are teaming up to host Bike the Park—a free\, family-friendly outdoor event on Saturday\, May 17th from 9:00 to 11:00 a.m. at Lakewood Park. \nGet ready to explore the beauty of Lakewood Park on foot or by bike! Registration for all riders and hikers begins at 8:30 a.m. at the Lakewood Discovery Center. Whether you’re biking the trails or taking a leisurely nature walk\, there’s something for everyone. \nDuring the event\, Lakewood Discovery Center will host an Open House with refreshments and snacks available\, providing a perfect pit stop for families and adventurers of all ages. \nBonus highlight: All registered participants will be entered into a drawing at 11:00 a.m. for a chance to win one of two bikes—just for showing up and enjoying the outdoors! \nDon’t miss this opportunity to connect with nature\, get active\, and celebrate the joy of biking with your community. \nEvent Details:\nWhat: Bike the Park – Family-Friendly Biking & Nature Event\nWhen: Saturday\, May 17\, 2025 | 9:00–11:00 a.m.\n(Registration begins at 8:30 a.m.)\nWhere: Lakewood Discovery Center\, 250 Lakewood Drive\, Salina\nCost: FREE \nFor more information\, contact Lakewood Discovery Center at 785.826.7335 or on Facebook using @LakewoodDiscoveryCenter. \nFor more information about Bike Month activities across the state of Kansas and Kansas Mobility Management\, visit www.ksrides.org. \nLet’s get rolling—see you there!
URL:https://livewellsalinecounty.com/event/bike-the-park/
LOCATION:Lakewood Park\, 250 Lakewood Drive\, Salina\, KS\, 67401
CATEGORIES:SPORTS,WELLNESS
ATTACH;FMTTYPE=image/jpeg:https://livewellsalinecounty.com/wp-content/uploads/2025/05/5-2025-bike-the-park.jpg
END:VEVENT
BEGIN:VEVENT
DTSTART;TZID=America/Chicago:20250516T090000
DTEND;TZID=America/Chicago:20250516T130000
DTSTAMP:20260423T080308
CREATED:20250429T185635Z
LAST-MODIFIED:20250429T190500Z
UID:1732-1747386000-1747400400@livewellsalinecounty.com
SUMMARY:Saline County Dept. of Senior Services Health Fair 2025
DESCRIPTION:A benefit for Meals on Wheels:\n• Health booths\n• Education\n• Door prizes
URL:https://livewellsalinecounty.com/event/saline-county-dept-of-senior-services-health-fair-2025/
LOCATION:Salina Senior Center\, 245 N. 9th St.\, Salina\, KS\, 67401
CATEGORIES:COMMUNITY,EDUCATION,WELLNESS
ATTACH;FMTTYPE=image/jpeg:https://livewellsalinecounty.com/wp-content/uploads/2025/04/SC-senior-center-health-fair.jpg
ORGANIZER;CN="Saline County Dept of Senior Services":MAILTO:tillerj@salinecountyks.gov
END:VEVENT
BEGIN:VEVENT
DTSTART;VALUE=DATE:20250516
DTEND;VALUE=DATE:20250517
DTSTAMP:20260423T080308
CREATED:20250509T141036Z
LAST-MODIFIED:20250509T141036Z
UID:1761-1747353600-1747439999@livewellsalinecounty.com
SUMMARY:Bike To Work Day
DESCRIPTION:Bike to Work Day is a fun and energizing way to celebrate active transportation\, reduce traffic congestion\, and promote healthier lifestyles. On this day\, people across the community are encouraged to leave their cars behind and bike to work\, school\, or around town. Whether you’re a seasoned cyclist or a beginner\, it’s a great opportunity to enjoy the outdoors\, save on gas\, and show support for more bike-friendly communities. Participants can join group rides\, visit refreshment stops\, or simply ride solo to show their support. Every pedal stroke helps create a healthier\, more connected city. \nFor more information\, contact Mobility Manager\, Michelle Coats at mcoats@occk.com or 785.826.1583.
URL:https://livewellsalinecounty.com/event/kansas-bike-to-work-day/
CATEGORIES:COMMUNITY,WELLNESS
ATTACH;FMTTYPE=image/jpeg:https://livewellsalinecounty.com/wp-content/uploads/2025/05/LWSC_bike-to-work-day.jpg
END:VEVENT
BEGIN:VEVENT
DTSTART;TZID=America/Chicago:20250503T170000
DTEND;TZID=America/Chicago:20250503T200000
DTSTAMP:20260423T080308
CREATED:20250429T184351Z
LAST-MODIFIED:20250429T190322Z
UID:1725-1746291600-1746302400@livewellsalinecounty.com
SUMMARY:Salina Speaks: A Mental Health Block Party
DESCRIPTION:An all-ages event featuring:\n• Live performances\n• Resource fair\n• Art showcase\n• Inflatable obstacle course
URL:https://livewellsalinecounty.com/event/salina-speaks-a-mental-health-block-party/
LOCATION:67401 Plaza\, 200 N. Santa Fe (Corner of Ash & Santa Fe)\, Salina\, KS\, 67401
CATEGORIES:COMMUNITY,WELLNESS
ATTACH;FMTTYPE=image/jpeg:https://livewellsalinecounty.com/wp-content/uploads/2025/04/SC-block-party.jpg
ORGANIZER;CN="Saline County Health Department":MAILTO:ricom@salinecountyks.gov
END:VEVENT
BEGIN:VEVENT
DTSTART;TZID=America/Chicago:20250402T173000
DTEND;TZID=America/Chicago:20250402T183000
DTSTAMP:20260423T080308
CREATED:20250324T140655Z
LAST-MODIFIED:20250324T140850Z
UID:1704-1743615000-1743618600@livewellsalinecounty.com
SUMMARY:Smoky Hill Stride
DESCRIPTION:Join us for the Smoky Hill Stride at the Smoky Hill River Trail at the YMCA on April 2 at 5:30 p.m. to celebrate National Walking Day! It’s a fun way to get active\, enjoy the outdoors\, and kickstart your wellness journey with others in our community. \nThis free\, community walk will take place along the Smoky Hill River Trail\, offering participants a fun and refreshing way to get active\, connect with others\, and enjoy the great outdoors. Walkers of all ages and abilities are encouraged to participate. Participants are encouraged to bring friends\, family\, and co-workers to celebrate National Walking Day and take steps toward a healthier lifestyle. No registration is required—just show up and stride with us! \nParking is available at Kenwood Cove. \nHosted by the Salina Mobility Working Group.
URL:https://livewellsalinecounty.com/event/smoky-hill-stride/
LOCATION:Smoky Hill River Trail at YMCA
CATEGORIES:COMMUNITY,WELLNESS
ATTACH;FMTTYPE=image/jpeg:https://livewellsalinecounty.com/wp-content/uploads/2025/03/smoky-hill-stride.jpg
END:VEVENT
BEGIN:VEVENT
DTSTART;VALUE=DATE:20250330
DTEND;VALUE=DATE:20250525
DTSTAMP:20260423T080308
CREATED:20250303T211751Z
LAST-MODIFIED:20250303T211954Z
UID:1648-1743292800-1748131199@livewellsalinecounty.com
SUMMARY:Walk Kansas
DESCRIPTION:We are celebrating 25 years of Walk Kansas! Registration opens March 3 so get your team together — we would love for you to join us this year. If you prefer\, the solo option is also available. \nWalk Kansas is a K-State Research and Extension (KSRE) health initiative that promotes personal health and well-being by helping participants adopt healthful lifestyle habits. While primarily a team-based program\, you can also go solo! Walk Kansas will help you: \n\nbe more active with support from friends and family\nmake healthier nutrition and beverage choices\nlearn helpful techniques to reduce stress\, sleep well\, and improve overall well-being
URL:https://livewellsalinecounty.com/event/walk-kansas/
CATEGORIES:WELLNESS
ATTACH;FMTTYPE=image/jpeg:https://livewellsalinecounty.com/wp-content/uploads/2025/03/walk-kansas.jpg
ORGANIZER;CN="K-State Research & Extension":MAILTO:blohmeier@ksu.edu
END:VEVENT
BEGIN:VEVENT
DTSTART;TZID=America/Chicago:20250211T173000
DTEND;TZID=America/Chicago:20250211T190000
DTSTAMP:20260423T080308
CREATED:20250117T170355Z
LAST-MODIFIED:20250117T170429Z
UID:1585-1739295000-1739300400@livewellsalinecounty.com
SUMMARY:February Opioid Task Force Community Listening Session
DESCRIPTION:Have you or someone you care about been affected by fentanyl\, overdose\, or substance use?\n\n\nThe Saline County Opioid Task Force will convene Community Listening Sessions on January 22 and February 11\, 2025. These sessions allow community members to share their insights and experiences\, discuss challenges\, and explore strengths and resources to guide future strategies. This free event is open to all\, and your voice will help shape future strategies to address this important issue. Registration is encouraged but not required—visit https://form.jotform.com/243506266654056 to register.\n\n\nThe January 22 meeting will be held at the Salina Public Library from 5:30 – 7:00 PM.\n\n\nThe February 11 session will be held at Salina Grace Community Resource Center from 5:30 – 7:00 PM.\n\n\nContact Meagan at 785-833-7330 or ricom@salinecountyks.gov for more information.
URL:https://livewellsalinecounty.com/event/opioid-task-force-community-listening-session/
LOCATION:Salina Grace Community Resource Center\, 315 S. Broadway Blvd.\, Salina\, KS\, 67401
CATEGORIES:COMMUNITY,WELLNESS
ATTACH;FMTTYPE=image/jpeg:https://livewellsalinecounty.com/wp-content/uploads/2025/01/SC-opiod-impact-feb.jpg
ORGANIZER;CN="Saline County Opiod Task Force":MAILTO:ricom@salinecountyks.gov
END:VEVENT
BEGIN:VEVENT
DTSTART;TZID=America/Chicago:20250122T173000
DTEND;TZID=America/Chicago:20250122T190000
DTSTAMP:20260423T080308
CREATED:20250117T164743Z
LAST-MODIFIED:20250117T170436Z
UID:1578-1737567000-1737572400@livewellsalinecounty.com
SUMMARY:January Opioid Task Force Community Listening Sessions
DESCRIPTION:Have you or someone you care about been affected by fentanyl\, overdose\, or substance use?\n\n\nThe Saline County Opioid Task Force will convene Community Listening Sessions on January 22 and February 11\, 2025. These sessions allow community members to share their insights and experiences\, discuss challenges\, and explore strengths and resources to guide future strategies. This free event is open to all\, and your voice will help shape future strategies to address this important issue. Registration is encouraged but not required—visit https://form.jotform.com/243506266654056 to register.\n\n\nThe January 22 meeting will be held at the Salina Public Library from 5:30 – 7:00 PM.\n\n\nThe February 11 session will be held at Salina Grace Community Resource Center from 5:30 – 7:00 PM.\n\n\nContact Meagan at 785-833-7330 or ricom@salinecountyks.gov for more information.
URL:https://livewellsalinecounty.com/event/community-listening-sessions/
LOCATION:Salina Public Library\, 301 W. Elm St.\, Salina\, KS\, 67401
CATEGORIES:COMMUNITY,WELLNESS
ATTACH;FMTTYPE=image/jpeg:https://livewellsalinecounty.com/wp-content/uploads/2025/01/SC-opiod-impact.jpg
ORGANIZER;CN="Saline County Opiod Task Force":MAILTO:ricom@salinecountyks.gov
END:VEVENT
BEGIN:VEVENT
DTSTART;TZID=UTC:20241021T180000
DTEND;TZID=UTC:20241021T180000
DTSTAMP:20260423T080308
CREATED:20240923T055459Z
LAST-MODIFIED:20240923T055459Z
UID:560-1729533600-1729533600@livewellsalinecounty.com
SUMMARY:Becoming a Mom® Session 4 (Infant Feeding)
DESCRIPTION:Infant Feeding/ Breastfeeding Basics: What to expect & how to overcome problems with breastfeeding for even the experienced breastfeeding mom. Special guest speaker Mona Hargrave\, WIC breastfeeding specialist. Contact Saline County Maternal Child Health for registration for this FREE class.
URL:https://livewellsalinecounty.com/event/becoming-a-mom-session-4-infant-feeding/
CATEGORIES:WELLNESS
ATTACH;FMTTYPE=image/jpeg:https://livewellsalinecounty.com/wp-content/uploads/2024/09/becoming-a-mom.jpg
END:VEVENT
BEGIN:VEVENT
DTSTART;TZID=UTC:20241005T080000
DTEND;TZID=UTC:20241005T120000
DTSTAMP:20260423T080308
CREATED:20240923T055459Z
LAST-MODIFIED:20240923T055459Z
UID:556-1728115200-1728129600@livewellsalinecounty.com
SUMMARY:Drive-Thru Flu Shot Clinic
DESCRIPTION:Salina Regional Health Center is offering a drive-through flu vaccine clinic. No appointment necessary. Vaccines will be administered outside in cars\, weather permitting. Bring insurance and vaccine cards.
URL:https://livewellsalinecounty.com/event/drive-thru-flu-shot-clinic/
CATEGORIES:WELLNESS
ATTACH;FMTTYPE=image/jpeg:https://livewellsalinecounty.com/wp-content/uploads/2024/09/flu-shot-clinic.jpg
END:VEVENT
END:VCALENDAR