BEGIN:VCALENDAR
VERSION:2.0
PRODID:-//Live Well Saline County - ECPv6.15.20//NONSGML v1.0//EN
CALSCALE:GREGORIAN
METHOD:PUBLISH
X-ORIGINAL-URL:https://livewellsalinecounty.com
X-WR-CALDESC:Events for Live Well Saline County
REFRESH-INTERVAL;VALUE=DURATION:PT1H
X-Robots-Tag:noindex
X-PUBLISHED-TTL:PT1H
BEGIN:VTIMEZONE
TZID:America/Chicago
BEGIN:DAYLIGHT
TZOFFSETFROM:-0600
TZOFFSETTO:-0500
TZNAME:CDT
DTSTART:20240310T080000
END:DAYLIGHT
BEGIN:STANDARD
TZOFFSETFROM:-0500
TZOFFSETTO:-0600
TZNAME:CST
DTSTART:20241103T070000
END:STANDARD
BEGIN:DAYLIGHT
TZOFFSETFROM:-0600
TZOFFSETTO:-0500
TZNAME:CDT
DTSTART:20250309T080000
END:DAYLIGHT
BEGIN:STANDARD
TZOFFSETFROM:-0500
TZOFFSETTO:-0600
TZNAME:CST
DTSTART:20251102T070000
END:STANDARD
BEGIN:DAYLIGHT
TZOFFSETFROM:-0600
TZOFFSETTO:-0500
TZNAME:CDT
DTSTART:20260308T080000
END:DAYLIGHT
BEGIN:STANDARD
TZOFFSETFROM:-0500
TZOFFSETTO:-0600
TZNAME:CST
DTSTART:20261101T070000
END:STANDARD
END:VTIMEZONE
BEGIN:VTIMEZONE
TZID:UTC
BEGIN:STANDARD
TZOFFSETFROM:+0000
TZOFFSETTO:+0000
TZNAME:UTC
DTSTART:20230101T000000
END:STANDARD
END:VTIMEZONE
BEGIN:VEVENT
DTSTART;TZID=America/Chicago:20251122T073000
DTEND;TZID=America/Chicago:20251122T100000
DTSTAMP:20260423T052039
CREATED:20250912T152809Z
LAST-MODIFIED:20250912T155206Z
UID:2142-1763796600-1763805600@livewellsalinecounty.com
SUMMARY:Frosty Fun Runs
DESCRIPTION:Big Brothers Big Sisters of Salina 15th Annual Frosty Fun Runs will be held on Saturday\, November 22. This family-friendly fundraiser is great for all. Events include: \n10K Run • Frosty 5K Run/Walk • Merry Mile • Kid’s Santa Sprint \nCookies & Hot Chocolate! Live DJ! • Live results to mobile device and Facebook! \nRegister here — registration must be received by November 1 to guarantee an event shirt! \nPacket Pick-up\nFriday\, November 21\, 8:30am-5:30pm at 99KG Studio\, 1825 S Ohio. \nEntry Fee\nFrosty 5K: $30 ($18 w/out event shirt)\nChilly 10K: $35 ($23 w/out event shirt)\nMerry Mile: $25 ($13 w/out event shirt)\nSanta Sprint: $10 \nEach registered participant receives\n• Frosty Fun Runs shirt (shirt is only guaranteed if registration is received by November 1)\n• Custom completion medal\, cookies\, bananas\, hot chocolate\n• Free Photos (available for download)\nRegistrations received after November 1 cannot guarantee event shirt or size \nSchedule\n7:30-8:30am: Registration/Packet Pick-up\n9:00am: Frosty 5 Mile Run\, Frosty 5K & Merry Mile Start\n10:00am: Santa Sprint\n100% of your entry fee directly supports Big Brothers Big Sisters of Salina!\nAll event times are subject to change. Course maps can be found HERE.
URL:https://livewellsalinecounty.com/event/frosty-fun-runs/
LOCATION:67401 Plaza\, 200 N. Santa Fe (Corner of Ash & Santa Fe)\, Salina\, KS\, 67401
CATEGORIES:RACE,SPORTS
ATTACH;FMTTYPE=image/jpeg:https://livewellsalinecounty.com/wp-content/uploads/2025/09/frosty-fun-run.jpg
ORGANIZER;CN="Big Brothers Big Sisters":MAILTO:bbbs@bbbssalina.org
END:VEVENT
BEGIN:VEVENT
DTSTART;VALUE=DATE:20251108
DTEND;VALUE=DATE:20251109
DTSTAMP:20260423T052039
CREATED:20250707T003750Z
LAST-MODIFIED:20250707T004110Z
UID:1838-1762560000-1762646399@livewellsalinecounty.com
SUMMARY:Salina Crossroads Marathon 2025
DESCRIPTION:3600 registered runners from all 50 States! Largest marathon event in Kansas! \n• Full Marathon\n• Half-Marathon\n• 10K (NEW)\n• 5K\n• Kid’s Half-Mile Fun Run\n• Team Relay: Full (6 legs) & Half (3 Legs) \nFriday\, November 7\nPacket Pickup at Homewood Suites by Hilton: 9:30am-1:00pm\, 12:30-4:00pm\, or 3:30-8:00pm \nSaturday\, November 8\nPacket Pickup at Salina Fieldhouse: 5:30-8:00am\nCourse Monitor: 7:45-11:00am or 10:00am-2:00pm\nFinish Line & Festival: 7:45-11:00am or 10:45am-2:00pm\nGear Check: Shift: 6:00-10:00am or 10:00am-2:00pm \nVolunteer to help with the Marathon!
URL:https://livewellsalinecounty.com/event/salina-crossroads-marathon-2025/
CATEGORIES:RACE,SPORTS
ATTACH;FMTTYPE=image/jpeg:https://livewellsalinecounty.com/wp-content/uploads/2025/07/crossroads-marathon.jpg
END:VEVENT
BEGIN:VEVENT
DTSTART;TZID=America/Chicago:20251107T160000
DTEND;TZID=America/Chicago:20251107T210000
DTSTAMP:20260423T052039
CREATED:20251020T164559Z
LAST-MODIFIED:20251020T165122Z
UID:2381-1762531200-1762549200@livewellsalinecounty.com
SUMMARY:First Friday for Crossroads Marathon
DESCRIPTION:First Fridays in Downtown Salina usually conclude in October\, but a special First Friday was added November 7 just for Crossroads Marathon attendees. The event features late-night shopping\, art receptions\, live music\, and various activities in the downtown area. The Blades will be playing in Campbell Plaza. \nSalina Crossroads Marathon — the Most Runner-Friendly Marathon in Kansas — will take place on Saturday\, November 8 in Downtown Salina. There are 4700 runners registered from all 50 states\, Canada\, Mexico\, and Tanzania\, which puts Salina Crossroads on pace to be the largest marathon event in Kansas this year. \nVolunteers Needed\nThis year the Salina Crossroads Marathon needs more than 300 volunteers. Shifts are available Friday (Nov 7) from 10:00a.m.-8:00p.m. and Saturday morning (Nov 8) starting at 6:00a.m. for packet pickup. Sign up here. Volunteer needs include course monitors\, finish line and festival\, and packet pickup. \nAn Event for the Entire Family\nIn addition to the marathon\, Salina Crossroads has a 5K\, 10K (new for 2025!)\, half-marathon\, team relay events\, and a half-mile kids’ fun run. The generosity of the community allows Salina Crossroads to be one of the most affordable races in Kansas. Runners can register here. \nPace Car\nThe lead car for the 2025 Salina Crossroads Marathon is a 1991 Porsche 964 Targa. Thank you to The Garage for providing this year’s lead car!
URL:https://livewellsalinecounty.com/event/first-friday-for-crossroads-marathon/
LOCATION:Downtown Salina
CATEGORIES:COMMUNITY,RACE,SPORTS
ATTACH;FMTTYPE=image/jpeg:https://livewellsalinecounty.com/wp-content/uploads/2025/10/crossroads-marathon.webp
END:VEVENT
BEGIN:VEVENT
DTSTART;TZID=America/Chicago:20251018T071500
DTEND;TZID=America/Chicago:20251018T120000
DTSTAMP:20260423T052039
CREATED:20250912T155226Z
LAST-MODIFIED:20250912T161757Z
UID:2153-1760771700-1760788800@livewellsalinecounty.com
SUMMARY:Scarecrow Scramble
DESCRIPTION:Scarecrow Scramble 5K Fun Run or 1 Mile Walk to benefit Sarah Swarts (7th grader’s parent at Southeast of Saline) \nSaturday\, October 18 • Gazebo on Main Street in Gypsum (Corner of Maple & 5 St\, downtown Gypsum) \nKickoff of the Gypsum Community Fall Festival \nSponsored by Southeast of Saline Family\, Career & Community Leaders of America (FCCLA) and Saline County Businesses \nCost: $25 (Send Money to 5056 E K-4 Hwy\, Gypsum\, KS 67448 C/O: SES FCCLA)\n‣ Registration FEE may also payable the day of the event\n‣ Advance Registration Due October 6th (to receive a t-shirt)\n‣ Walk-In Registration WELCOME the day of the Run\, with limited additional T-Shirts available \nRegistration begins at 7:15am • Run starts at 8:00am
URL:https://livewellsalinecounty.com/event/scarecrow-scramble/
LOCATION:Gypsum Main Street Gazebo\, 144 W 5th St\, Gypsum\, KS\, 67448\, United States
CATEGORIES:COMMUNITY,FOOD,RACE
ATTACH;FMTTYPE=image/jpeg:https://livewellsalinecounty.com/wp-content/uploads/2025/09/color-run.jpg
ORGANIZER;CN="SES FCCLA":MAILTO:hlewis@usd306.org
END:VEVENT
BEGIN:VEVENT
DTSTART;VALUE=DATE:20250920
DTEND;VALUE=DATE:20250921
DTSTAMP:20260423T052039
CREATED:20250616T193329Z
LAST-MODIFIED:20250707T005310Z
UID:1831-1758326400-1758412799@livewellsalinecounty.com
SUMMARY:Fe for a Cure
DESCRIPTION:Registration is now open for one of the region’s most fun\, family friendly and affordable running and walking events – the Fe for a Cure! This year’s race will be held on Saturday\, September 20th\, 2025 and will start and finish at Tammy Walker Cancer Center. In addition to a USATF Certified 5K race a new one mile fun run was added in 2024. It makes the Fe For a Cure Race/Walk an event the entire family can participate in. The 5K race will be starting at 8:00a.m. with the one mile fun run following at 8:10a.m. The Fe For a Cure 5K was the first ever USATF Certified race held in Salina (2022) and along with the Salina Crossroads Marathon is one of only two USATF Certified races in Salina. \nThanks to the generosity of sponsors\, 100% of your entry fee directly supports cancer patients through services and equipment needs at the Tammy Walker Cancer Center. \nEvent organizers have set a goal of having 1\,000 registered participants this year. Last year’s event drew a record 834 registered participants. Registration is $25 for ages 12 and older and $10 for ages 11 and younger. All who register will receive a commemorative race t-shirt. Cancer survivors who register will receive specially designated t-shirts. \nLast year the event raised $26\,439 through registrations\, donations\, and ribbons sales. An anonymous donor also contributed $30\,000\, bringing the total raised to a record $56\,439! Here are some of the programs that funds raised from the Fe For a Cure help to support: \nPatient meal program Patients undergoing long chemotherapy infusions are offered a meal (lunch)\, Monday thru Thursday. The patient meal program started in November 2022 and over 3800 meals have been served. What an amazing gift to our patients! During the school year the patient meal program provides our Project Search interns the opportunity to learn work skills and business soft-skills with the goal of helping them gain employment. During the summer we have volunteers who help out.\nAppearance center Patients are able to get wigs\, hats\, scarves\, and other items at no cost. Wigs and other items from the appearance center can help empower patients and help them feel more comfortable and confident as well as provide a sense of normalcy during treatment.\nTransportation assistance Transportation shouldn’t be a roadblock to cancer treatment. Our partnership with OCCK allows us to offer transportation services to those who need it at no cost.\nMorrison House The Morrison House is a guest residence for those living outside Salina with a loved one who is a patient at Salina Regional Health Center and outpatients undergoing treatment at the Tammy Walker Cancer Center. \nTo volunteer to help with Fe for a Cure\, contact Daniel Craig at dacraig@srhc.com or 785-452-4848.
URL:https://livewellsalinecounty.com/event/fe-for-a-cure-2/
LOCATION:Tammy Walker Cancer Center\, 511 S Santa Fe Ave\, Salina\, KS\, 67401\, United States
CATEGORIES:COMMUNITY,RACE,WELLNESS
ATTACH;FMTTYPE=image/jpeg:https://livewellsalinecounty.com/wp-content/uploads/2025/06/fe-for-a-cure.jpg
ORGANIZER;CN="Tammy Walker Cancer Center":MAILTO:dacraig@srhc.com
END:VEVENT
BEGIN:VEVENT
DTSTART;TZID=America/Chicago:20250426T080000
DTEND;TZID=America/Chicago:20250426T080000
DTSTAMP:20260423T052039
CREATED:20250303T210737Z
LAST-MODIFIED:20250303T210959Z
UID:1641-1745654400-1745654400@livewellsalinecounty.com
SUMMARY:Love\, Chloe Family Fun Run
DESCRIPTION:Registration is Open! Hurry! Prices increase March 15th!\n\nCome join us at Ash & Santa Fe in Downtown Salina on Saturday\, April 26th for our Family Fun Run! Enjoy a 1-mile stroll\, a 5k walk/run or go all out with the 10k run. All participants receive a custom race bib\, finisher medal and event shirt. While you’re there\, visit the selfie station\, face painting booth and the bouncy house! Don’t forget the snacks and chocolate milk when you’re done. It’ll be a FUNdraising time for everyone!\n——\nThe Love\, Chloe Foundation was founded in 2008 in memory of Chloe Feyerherm. The organization was created with a mission to help children with cancer every year and to provide immediate help to families.
URL:https://livewellsalinecounty.com/event/love-chloe-family-fun-run/
LOCATION:Downtown Salina
CATEGORIES:COMMUNITY,RACE
ATTACH;FMTTYPE=image/jpeg:https://livewellsalinecounty.com/wp-content/uploads/2025/03/love-chloe.jpg
END:VEVENT
BEGIN:VEVENT
DTSTART;TZID=UTC:20241102T080000
DTEND;TZID=UTC:20241102T080000
DTSTAMP:20260423T052039
CREATED:20240923T055459Z
LAST-MODIFIED:20240923T055459Z
UID:554-1730534400-1730534400@livewellsalinecounty.com
SUMMARY:Salina Crossroads Marathon
DESCRIPTION:Full Marathon\, Half-Marathon\, 5K & Kid’s Fun Run\, Team Relay: Full (6 legs) & Half (3 Legs). New course in 2024! Fewer turns\, 100% paved. Medals awarded to all runners. Trophies awarded to full and half marathon winners. Cash prizes for top 3 male and female runners in Full and Half Marathons. Boston Marathon Qualifier.
URL:https://livewellsalinecounty.com/event/salina-crossroads-marathon/
LOCATION:Downtown Salina
CATEGORIES:RACE
ATTACH;FMTTYPE=image/jpeg:https://livewellsalinecounty.com/wp-content/uploads/2024/09/crossroads-marathon.jpg
END:VEVENT
BEGIN:VEVENT
DTSTART;TZID=UTC:20240921T080000
DTEND;TZID=UTC:20240921T080000
DTSTAMP:20260423T052039
CREATED:20240923T055459Z
LAST-MODIFIED:20240923T055459Z
UID:552-1726905600-1726905600@livewellsalinecounty.com
SUMMARY:Fe for a Cure
DESCRIPTION:The Fe for a Cure 5K Race/Walk is a fun way to support cancer awareness and raise funds for patients receiving treatment at the Tammy Walker Cancer Center. Thanks to the generosity of our sponsors\, 100% of your entry fee directly supports cancer patients through services and equipment needs at the Tammy Walker Cancer Center. Registration begins at 6:00am.
URL:https://livewellsalinecounty.com/event/fe-for-a-cure/
LOCATION:Downtown Salina
CATEGORIES:RACE
ATTACH;FMTTYPE=image/jpeg:https://livewellsalinecounty.com/wp-content/uploads/2024/09/fe-for-a-cure.jpg
END:VEVENT
END:VCALENDAR